BEGIN:VCALENDAR
VERSION:2.0
PRODID:-//wp-events-plugin.com//7.2.3.1//EN
TZID:Europe/Berlin
X-WR-TIMEZONE:Europe/Berlin
BEGIN:VEVENT
UID:284@moderatorenschule-bw.de
DTSTART;TZID=Europe/Berlin;VALUE=DATE:20250326
DTEND;TZID=Europe/Berlin;VALUE=DATE:20250328
DTSTAMP:20250207T105839Z
URL:https://moderatorenschule-bw.de/seminar/moderationskonzept-storytellin
 g-dramaturgie_25-03-26/
SUMMARY:Moderationskonzept\, Storytelling\, Dramaturgie
DESCRIPTION:https://moderatorenschule-bw.de/seminar/moderationskonzept-stor
 ytelling-dramaturgie_25-03-26/
CATEGORIES:II - Moderationskonzept - Storytelling - Dramaturgie
LOCATION:Moderatorenschule Baden-Württemberg\, Beethovenstr. 7 (Parkplätz
 e an der Hildapromenade)\, Karlsruhe\, 76133\, Deutschland
X-APPLE-STRUCTURED-LOCATION;VALUE=URI;X-ADDRESS=Beethovenstr. 7 (Parkplätz
 e an der Hildapromenade)\, Karlsruhe\, 76133\, Deutschland;X-APPLE-RADIUS=
 100;X-TITLE=Moderatorenschule Baden-Württemberg:geo:0,0
END:VEVENT
BEGIN:VTIMEZONE
TZID:Europe/Berlin
X-LIC-LOCATION:Europe/Berlin
BEGIN:STANDARD
DTSTART:20241027T020000
TZOFFSETFROM:+0200
TZOFFSETTO:+0100
TZNAME:CET
END:STANDARD
END:VTIMEZONE
END:VCALENDAR