BEGIN:VCALENDAR
VERSION:2.0
PRODID:-//wp-events-plugin.com//7.2.3.1//EN
TZID:Europe/Berlin
X-WR-TIMEZONE:Europe/Berlin
BEGIN:VEVENT
UID:324@moderatorenschule-bw.de
DTSTART;TZID=Europe/Berlin;VALUE=DATE:20260209
DTEND;TZID=Europe/Berlin;VALUE=DATE:20260211
DTSTAMP:20250828T123523Z
URL:https://moderatorenschule-bw.de/seminar/frei-sprechen-fuer-moderatoren
 -und-redner-26-02-09/
SUMMARY:Frei sprechen für Moderatoren und Redner
DESCRIPTION:https://moderatorenschule-bw.de/seminar/frei-sprechen-fuer-mode
 ratoren-und-redner-26-02-09/
CATEGORIES:Frei sprechen für Moderatoren und Redner
LOCATION:Moderatorenschule Baden-Württemberg\, Beethovenstr. 7 (Parkplätz
 e an der Hildapromenade)\, Karlsruhe\, 76133\, Deutschland
X-APPLE-STRUCTURED-LOCATION;VALUE=URI;X-ADDRESS=Beethovenstr. 7 (Parkplätz
 e an der Hildapromenade)\, Karlsruhe\, 76133\, Deutschland;X-APPLE-RADIUS=
 100;X-TITLE=Moderatorenschule Baden-Württemberg:geo:0,0
END:VEVENT
BEGIN:VTIMEZONE
TZID:Europe/Berlin
X-LIC-LOCATION:Europe/Berlin
BEGIN:STANDARD
DTSTART:20251026T020000
TZOFFSETFROM:+0200
TZOFFSETTO:+0100
TZNAME:CET
END:STANDARD
END:VTIMEZONE
END:VCALENDAR